Package: qvalue Version: 2.43.0 Command: /Library/Frameworks/R.framework/Resources/bin/R CMD build --keep-empty-dirs --no-resave-data qvalue StartedAt: 2025-11-12 17:00:43 -0500 (Wed, 12 Nov 2025) EndedAt: 2025-11-12 17:00:51 -0500 (Wed, 12 Nov 2025) EllapsedTime: 8.1 seconds RetCode: 0 Status: OK PackageFile: qvalue_2.43.0.tar.gz PackageFileSize: 2.646 MiB