Package: qvalue Version: 2.43.0 Command: rm -rf qvalue.buildbin-libdir && mkdir qvalue.buildbin-libdir && /Users/biocbuild/BBS/utils/build-universal.sh qvalue_2.43.0.tar.gz /Library/Frameworks/R.framework/Resources/bin/R qvalue.buildbin-libdir StartedAt: 2025-11-12 21:07:09 -0500 (Wed, 12 Nov 2025) EndedAt: 2025-11-12 21:07:12 -0500 (Wed, 12 Nov 2025) EllapsedTime: 3.1 seconds RetCode: 0 Status: OK PackageFile: qvalue_2.43.0.tgz PackageFileSize: 2.684 MiB