Package: qusage Version: 2.45.0 Command: /home/biocbuild/bbs-3.23-bioc/R/bin/R CMD INSTALL qusage StartedAt: 2025-11-13 15:12:23 -0500 (Thu, 13 Nov 2025) EndedAt: 2025-11-13 15:12:32 -0500 (Thu, 13 Nov 2025) EllapsedTime: 8.7 seconds RetCode: 0 Status: OK