Package: qusage Version: 2.45.0 Command: /home/biocbuild/bbs-3.23-bioc/R/bin/R CMD build --keep-empty-dirs --no-resave-data qusage StartedAt: 2025-11-13 19:26:46 -0500 (Thu, 13 Nov 2025) EndedAt: 2025-11-13 19:31:32 -0500 (Thu, 13 Nov 2025) EllapsedTime: 285.2 seconds RetCode: 0 Status: OK PackageFile: qusage_2.45.0.tar.gz PackageFileSize: 9.648 MiB