Package: qusage Version: 2.45.0 Command: rm -rf qusage.buildbin-libdir && mkdir qusage.buildbin-libdir && /Users/biocbuild/BBS/utils/build-universal.sh qusage_2.45.0.tar.gz /Library/Frameworks/R.framework/Resources/bin/R qusage.buildbin-libdir StartedAt: 2025-11-13 23:51:44 -0500 (Thu, 13 Nov 2025) EndedAt: 2025-11-13 23:51:50 -0500 (Thu, 13 Nov 2025) EllapsedTime: 6.2 seconds RetCode: 0 Status: OK PackageFile: qusage_2.45.0.tgz PackageFileSize: 9.835 MiB