Package: qusage Version: 2.45.0 Maintainer: Christopher Bolen MaintainerEmail: cbolen1 at gmail.com git_url: https://git.bioconductor.org/packages/qusage git_branch: devel git_last_commit: 6db5ad6 git_last_commit_date: 2025-10-29 10:16:07 -0500 (Wed, 29 Oct 2025)