Package: quantsmooth Version: 1.77.0 Command: /home/biocbuild/bbs-3.23-bioc/R/bin/R CMD INSTALL quantsmooth StartedAt: 2025-11-11 15:09:10 -0500 (Tue, 11 Nov 2025) EndedAt: 2025-11-11 15:09:16 -0500 (Tue, 11 Nov 2025) EllapsedTime: 5.5 seconds RetCode: 0 Status: OK