Package: quantsmooth Version: 1.77.0 Command: /home/biocbuild/bbs-3.23-bioc/R/bin/R CMD build --keep-empty-dirs --no-resave-data quantsmooth StartedAt: 2025-11-11 19:31:20 -0500 (Tue, 11 Nov 2025) EndedAt: 2025-11-11 19:31:31 -0500 (Tue, 11 Nov 2025) EllapsedTime: 11.0 seconds RetCode: 0 Status: OK PackageFile: quantsmooth_1.77.0.tar.gz PackageFileSize: 340.8 KiB