Package: quantsmooth Version: 1.77.0 Command: /Library/Frameworks/R.framework/Resources/bin/R CMD INSTALL quantsmooth StartedAt: 2025-11-12 15:17:44 -0500 (Wed, 12 Nov 2025) EndedAt: 2025-11-12 15:17:51 -0500 (Wed, 12 Nov 2025) EllapsedTime: 7.0 seconds RetCode: 0 Status: OK