Package: quantsmooth Version: 1.77.0 Maintainer: Jan Oosting MaintainerEmail: j.oosting at lumc.nl git_url: https://git.bioconductor.org/packages/quantsmooth git_branch: devel git_last_commit: d6caae1 git_last_commit_date: 2025-10-29 09:58:15 -0500 (Wed, 29 Oct 2025)