Package: quantro Version: 1.45.0 Command: /Library/Frameworks/R.framework/Resources/bin/R CMD INSTALL quantro StartedAt: 2025-11-23 15:24:16 -0500 (Sun, 23 Nov 2025) EndedAt: 2025-11-23 15:24:35 -0500 (Sun, 23 Nov 2025) EllapsedTime: 19.1 seconds RetCode: 0 Status: OK