Package: quantro Version: 1.45.0 Command: /Library/Frameworks/R.framework/Resources/bin/R CMD build --keep-empty-dirs --no-resave-data quantro StartedAt: 2025-11-21 17:21:04 -0500 (Fri, 21 Nov 2025) EndedAt: 2025-11-21 17:21:53 -0500 (Fri, 21 Nov 2025) EllapsedTime: 48.6 seconds RetCode: 0 Status: OK PackageFile: quantro_1.45.0.tar.gz PackageFileSize: 2.778 MiB