Package: quantiseqr Version: 1.19.0 Command: /Library/Frameworks/R.framework/Resources/bin/R CMD INSTALL quantiseqr StartedAt: 2025-11-12 15:33:17 -0500 (Wed, 12 Nov 2025) EndedAt: 2025-11-12 15:33:26 -0500 (Wed, 12 Nov 2025) EllapsedTime: 9.4 seconds RetCode: 0 Status: OK