Package: quantiseqr Version: 1.19.0 Command: rm -rf quantiseqr.buildbin-libdir && mkdir quantiseqr.buildbin-libdir && /Users/biocbuild/BBS/utils/build-universal.sh quantiseqr_1.19.0.tar.gz /Library/Frameworks/R.framework/Resources/bin/R quantiseqr.buildbin-libdir StartedAt: 2025-11-12 21:07:04 -0500 (Wed, 12 Nov 2025) EndedAt: 2025-11-12 21:07:16 -0500 (Wed, 12 Nov 2025) EllapsedTime: 12.3 seconds RetCode: 0 Status: OK PackageFile: quantiseqr_1.19.0.tgz PackageFileSize: 3.611 MiB