Package: quantiseqr Version: 1.19.0 Maintainer: Federico Marini MaintainerEmail: marinif at uni-mainz.de git_url: https://git.bioconductor.org/packages/quantiseqr git_branch: devel git_last_commit: 0a7a615 git_last_commit_date: 2025-10-29 11:08:45 -0500 (Wed, 29 Oct 2025)