Package: qsmooth Version: 1.27.0 Command: /home/biocbuild/bbs-3.23-bioc/R/bin/R CMD INSTALL qsmooth StartedAt: 2025-11-14 15:29:32 -0500 (Fri, 14 Nov 2025) EndedAt: 2025-11-14 15:30:05 -0500 (Fri, 14 Nov 2025) EllapsedTime: 33.1 seconds RetCode: 0 Status: OK