Package: qsmooth Version: 1.27.0 Command: /home/biocbuild/bbs-3.23-bioc/R/bin/R CMD build --keep-empty-dirs --no-resave-data qsmooth StartedAt: 2025-11-14 19:26:01 -0500 (Fri, 14 Nov 2025) EndedAt: 2025-11-14 19:27:04 -0500 (Fri, 14 Nov 2025) EllapsedTime: 63.1 seconds RetCode: 0 Status: OK PackageFile: qsmooth_1.27.0.tar.gz PackageFileSize: 1.289 MiB