Package: qsmooth Version: 1.27.0 Command: /Library/Frameworks/R.framework/Resources/bin/R CMD INSTALL qsmooth StartedAt: 2025-11-13 15:11:55 -0500 (Thu, 13 Nov 2025) EndedAt: 2025-11-13 15:12:09 -0500 (Thu, 13 Nov 2025) EllapsedTime: 13.4 seconds RetCode: 0 Status: OK