Package: qsmooth Version: 1.27.0 Command: /Library/Frameworks/R.framework/Resources/bin/R CMD build --keep-empty-dirs --no-resave-data qsmooth StartedAt: 2025-11-13 17:24:37 -0500 (Thu, 13 Nov 2025) EndedAt: 2025-11-13 17:25:04 -0500 (Thu, 13 Nov 2025) EllapsedTime: 27.4 seconds RetCode: 0 Status: OK PackageFile: qsmooth_1.27.0.tar.gz PackageFileSize: 1.3 MiB