Package: qsmooth Version: 1.27.0 Maintainer: Stephanie C. Hicks MaintainerEmail: shicks19 at jhu.edu git_url: https://git.bioconductor.org/packages/qsmooth git_branch: devel git_last_commit: 427ec51 git_last_commit_date: 2025-10-29 10:50:55 -0500 (Wed, 29 Oct 2025)