Package: qpgraph Version: 2.45.0 Command: /home/biocbuild/bbs-3.23-bioc/R/bin/R CMD INSTALL qpgraph StartedAt: 2025-11-13 15:43:45 -0500 (Thu, 13 Nov 2025) EndedAt: 2025-11-13 15:44:37 -0500 (Thu, 13 Nov 2025) EllapsedTime: 52.6 seconds RetCode: 0 Status: OK