Package: qpgraph Version: 2.45.0 Command: /home/biocbuild/bbs-3.23-bioc/R/bin/R CMD build --keep-empty-dirs --no-resave-data qpgraph StartedAt: 2025-11-14 19:25:36 -0500 (Fri, 14 Nov 2025) EndedAt: 2025-11-14 19:27:24 -0500 (Fri, 14 Nov 2025) EllapsedTime: 108.1 seconds RetCode: 0 Status: OK PackageFile: qpgraph_2.45.0.tar.gz PackageFileSize: 2.698 MiB