Package: qpgraph Version: 2.45.0 Command: /Library/Frameworks/R.framework/Resources/bin/R CMD build --keep-empty-dirs --no-resave-data qpgraph StartedAt: 2025-11-14 17:21:35 -0500 (Fri, 14 Nov 2025) EndedAt: 2025-11-14 17:22:27 -0500 (Fri, 14 Nov 2025) EllapsedTime: 51.6 seconds RetCode: 0 Status: OK PackageFile: qpgraph_2.45.0.tar.gz PackageFileSize: 2.705 MiB