Package: qpgraph Version: 2.45.0 Command: rm -rf qpgraph.buildbin-libdir && mkdir qpgraph.buildbin-libdir && /Users/biocbuild/BBS/utils/build-universal.sh qpgraph_2.45.0.tar.gz /Library/Frameworks/R.framework/Resources/bin/R qpgraph.buildbin-libdir StartedAt: 2025-11-14 23:46:38 -0500 (Fri, 14 Nov 2025) EndedAt: 2025-11-14 23:47:07 -0500 (Fri, 14 Nov 2025) EllapsedTime: 28.7 seconds RetCode: 0 Status: OK PackageFile: qpgraph_2.45.0.tgz PackageFileSize: 4.088 MiB