Package: qmtools Version: 1.15.0 Command: /Library/Frameworks/R.framework/Resources/bin/R CMD build --keep-empty-dirs --no-resave-data qmtools StartedAt: 2025-11-14 17:21:34 -0500 (Fri, 14 Nov 2025) EndedAt: 2025-11-14 17:21:54 -0500 (Fri, 14 Nov 2025) EllapsedTime: 20.3 seconds RetCode: 0 Status: OK PackageFile: qmtools_1.15.0.tar.gz PackageFileSize: 1.419 MiB