Package: qmtools Version: 1.15.0 Command: rm -rf qmtools.buildbin-libdir && mkdir qmtools.buildbin-libdir && /Users/biocbuild/BBS/utils/build-universal.sh qmtools_1.15.0.tar.gz /Library/Frameworks/R.framework/Resources/bin/R qmtools.buildbin-libdir StartedAt: 2025-11-12 21:06:59 -0500 (Wed, 12 Nov 2025) EndedAt: 2025-11-12 21:07:12 -0500 (Wed, 12 Nov 2025) EllapsedTime: 13.3 seconds RetCode: 0 Status: OK PackageFile: qmtools_1.15.0.tgz PackageFileSize: 1.546 MiB