Package: qmtools Version: 1.15.0 Maintainer: Jaehyun Joo MaintainerEmail: jaehyunjoo at outlook.com git_url: https://git.bioconductor.org/packages/qmtools git_branch: devel git_last_commit: ea14738 git_last_commit_date: 2025-10-29 11:16:09 -0500 (Wed, 29 Oct 2025)