Package: qcmetrics Version: 1.49.0 Command: /home/biocbuild/bbs-3.23-bioc/R/bin/R CMD INSTALL qcmetrics StartedAt: 2025-11-14 15:14:15 -0500 (Fri, 14 Nov 2025) EndedAt: 2025-11-14 15:14:24 -0500 (Fri, 14 Nov 2025) EllapsedTime: 8.4 seconds RetCode: 0 Status: OK