Package: qcmetrics Version: 1.49.0 Command: /home/biocbuild/bbs-3.23-bioc/R/bin/R CMD build --keep-empty-dirs --no-resave-data qcmetrics StartedAt: 2025-11-14 19:25:21 -0500 (Fri, 14 Nov 2025) EndedAt: 2025-11-14 19:25:51 -0500 (Fri, 14 Nov 2025) EllapsedTime: 30.0 seconds RetCode: 0 Status: OK PackageFile: qcmetrics_1.49.0.tar.gz PackageFileSize: 4.219 MiB