Package: qcmetrics Version: 1.49.0 Command: /Library/Frameworks/R.framework/Resources/bin/R CMD INSTALL qcmetrics StartedAt: 2025-11-12 15:22:41 -0500 (Wed, 12 Nov 2025) EndedAt: 2025-11-12 15:22:44 -0500 (Wed, 12 Nov 2025) EllapsedTime: 3.4 seconds RetCode: 0 Status: OK