Package: qPLEXanalyzer Version: 1.29.0 Command: /home/biocbuild/bbs-3.23-bioc/R/bin/R CMD INSTALL qPLEXanalyzer StartedAt: 2025-11-13 15:37:00 -0500 (Thu, 13 Nov 2025) EndedAt: 2025-11-13 15:37:40 -0500 (Thu, 13 Nov 2025) EllapsedTime: 40.3 seconds RetCode: 0 Status: OK