Package: qPLEXanalyzer Version: 1.29.0 Maintainer: Ashley Sawle MaintainerEmail: ads2202cu at gmail.com git_url: https://git.bioconductor.org/packages/qPLEXanalyzer git_branch: devel git_last_commit: d72dc3a git_last_commit_date: 2025-10-29 10:46:08 -0500 (Wed, 29 Oct 2025)