Package: pwalign Version: 1.7.0 Command: /home/biocbuild/bbs-3.23-bioc/R/bin/R CMD INSTALL pwalign StartedAt: 2025-11-11 15:54:19 -0500 (Tue, 11 Nov 2025) EndedAt: 2025-11-11 15:54:35 -0500 (Tue, 11 Nov 2025) EllapsedTime: 15.5 seconds RetCode: 0 Status: OK