Package: pwalign Version: 1.7.0 Command: /home/biocbuild/bbs-3.23-bioc/R/bin/R CMD build --keep-empty-dirs --no-resave-data pwalign StartedAt: 2025-11-14 19:24:35 -0500 (Fri, 14 Nov 2025) EndedAt: 2025-11-14 19:25:28 -0500 (Fri, 14 Nov 2025) EllapsedTime: 53.0 seconds RetCode: 0 Status: OK PackageFile: pwalign_1.7.0.tar.gz PackageFileSize: 346.3 KiB