Package: pwalign Version: 1.7.0 Command: /Library/Frameworks/R.framework/Resources/bin/R CMD build --keep-empty-dirs --no-resave-data pwalign StartedAt: 2025-11-13 17:24:04 -0500 (Thu, 13 Nov 2025) EndedAt: 2025-11-13 17:24:32 -0500 (Thu, 13 Nov 2025) EllapsedTime: 27.3 seconds RetCode: 0 Status: OK PackageFile: pwalign_1.7.0.tar.gz PackageFileSize: 346.2 KiB