Package: pwalign Version: 1.7.0 Maintainer: Hervé Pagès MaintainerEmail: hpages.on.github at gmail.com git_url: https://git.bioconductor.org/packages/pwalign git_branch: devel git_last_commit: a8e536a git_last_commit_date: 2025-10-29 14:46:16 -0500 (Wed, 29 Oct 2025)