Package: protGear Version: 1.15.0 Command: /home/biocbuild/bbs-3.23-bioc/R/bin/R CMD build --keep-empty-dirs --no-resave-data protGear StartedAt: 2025-11-14 19:23:08 -0500 (Fri, 14 Nov 2025) EndedAt: 2025-11-14 19:24:14 -0500 (Fri, 14 Nov 2025) EllapsedTime: 66.0 seconds RetCode: 0 Status: OK PackageFile: protGear_1.15.0.tar.gz PackageFileSize: 4.749 MiB