Package: protGear Version: 1.15.0 Command: /Library/Frameworks/R.framework/Resources/bin/R CMD INSTALL protGear StartedAt: 2025-11-13 15:09:28 -0500 (Thu, 13 Nov 2025) EndedAt: 2025-11-13 15:09:37 -0500 (Thu, 13 Nov 2025) EllapsedTime: 9.8 seconds RetCode: 0 Status: OK