Package: protGear Version: 1.15.0 Command: rm -rf protGear.buildbin-libdir && mkdir protGear.buildbin-libdir && /Users/biocbuild/BBS/utils/build-universal.sh protGear_1.15.0.tar.gz /Library/Frameworks/R.framework/Resources/bin/R protGear.buildbin-libdir StartedAt: 2025-11-13 23:51:15 -0500 (Thu, 13 Nov 2025) EndedAt: 2025-11-13 23:51:29 -0500 (Thu, 13 Nov 2025) EllapsedTime: 13.3 seconds RetCode: 0 Status: OK PackageFile: protGear_1.15.0.tgz PackageFileSize: 3.943 MiB