Package: protGear Version: 1.15.0 Maintainer: Kennedy Mwai MaintainerEmail: keniajin at gmail.com git_url: https://git.bioconductor.org/packages/protGear git_branch: devel git_last_commit: 1c28da5 git_last_commit_date: 2025-10-29 11:15:59 -0500 (Wed, 29 Oct 2025)