Package: projectR Version: 1.27.0 Command: /home/biocbuild/bbs-3.23-bioc/R/bin/R CMD INSTALL projectR StartedAt: 2025-11-13 15:21:00 -0500 (Thu, 13 Nov 2025) EndedAt: 2025-11-13 15:21:33 -0500 (Thu, 13 Nov 2025) EllapsedTime: 33.5 seconds RetCode: 0 Status: OK