Package: projectR Version: 1.27.0 Command: /Library/Frameworks/R.framework/Resources/bin/R CMD INSTALL projectR StartedAt: 2025-11-13 15:13:40 -0500 (Thu, 13 Nov 2025) EndedAt: 2025-11-13 15:13:54 -0500 (Thu, 13 Nov 2025) EllapsedTime: 14.1 seconds RetCode: 0 Status: OK