Package: projectR Version: 1.27.0 Command: /Library/Frameworks/R.framework/Resources/bin/R CMD build --keep-empty-dirs --no-resave-data projectR StartedAt: 2025-11-14 17:19:59 -0500 (Fri, 14 Nov 2025) EndedAt: 2025-11-14 17:20:48 -0500 (Fri, 14 Nov 2025) EllapsedTime: 49.6 seconds RetCode: 0 Status: OK PackageFile: projectR_1.27.0.tar.gz PackageFileSize: 5.906 MiB