Package: projectR Version: 1.27.0 Maintainer: Genevieve Stein-O'Brien MaintainerEmail: gsteinobrien at gmail.com git_url: https://git.bioconductor.org/packages/projectR git_branch: devel git_last_commit: d55d8c4 git_last_commit_date: 2025-10-29 10:50:52 -0500 (Wed, 29 Oct 2025)