Package: profileplyr Version: 1.27.0 Command: /Library/Frameworks/R.framework/Resources/bin/R CMD INSTALL profileplyr StartedAt: 2025-11-14 15:31:47 -0500 (Fri, 14 Nov 2025) EndedAt: 2025-11-14 15:31:53 -0500 (Fri, 14 Nov 2025) EllapsedTime: 6.1 seconds RetCode: 1 Status: ERROR