############################################################################## ############################################################################## ### ### Running command: ### ### /Library/Frameworks/R.framework/Resources/bin/R CMD build --keep-empty-dirs --no-resave-data profileplyr ### ############################################################################## ############################################################################## * checking for file ‘profileplyr/DESCRIPTION’ ... OK * preparing ‘profileplyr’: * checking DESCRIPTION meta-information ... OK * installing the package (it is needed to build vignettes) ----------------------------------- * installing *source* package ‘profileplyr’ ... ** this is package ‘profileplyr’ version ‘1.27.0’ ** using staged installation ** R ** data ** inst ** byte-compile and prepare package for lazy loading Error: object ‘makeTxDbFromGFF’ is not exported by 'namespace:GenomicFeatures' Execution halted ERROR: lazy loading failed for package ‘profileplyr’ * removing ‘/private/var/folders/r0/l4fjk6cj5xj0j3brt4bplpl40000gt/T/RtmpyOQFxo/Rinst459e20905c5f/profileplyr’ ----------------------------------- ERROR: package installation failed