Package: profileScoreDist Version: 1.39.0 Command: /Library/Frameworks/R.framework/Resources/bin/R CMD INSTALL profileScoreDist StartedAt: 2025-11-12 15:22:26 -0500 (Wed, 12 Nov 2025) EndedAt: 2025-11-12 15:22:31 -0500 (Wed, 12 Nov 2025) EllapsedTime: 4.7 seconds RetCode: 0 Status: OK