Package: procoil Version: 2.39.0 Command: /Library/Frameworks/R.framework/Resources/bin/R CMD INSTALL procoil StartedAt: 2025-11-12 15:23:49 -0500 (Wed, 12 Nov 2025) EndedAt: 2025-11-12 15:23:59 -0500 (Wed, 12 Nov 2025) EllapsedTime: 10.3 seconds RetCode: 0 Status: OK