Package: procoil Version: 2.39.0 Command: /Library/Frameworks/R.framework/Resources/bin/R CMD build --keep-empty-dirs --no-resave-data procoil StartedAt: 2025-11-12 16:59:06 -0500 (Wed, 12 Nov 2025) EndedAt: 2025-11-12 16:59:22 -0500 (Wed, 12 Nov 2025) EllapsedTime: 16.2 seconds RetCode: 0 Status: OK PackageFile: procoil_2.39.0.tar.gz PackageFileSize: 1.306 MiB