Package: procoil Version: 2.39.0 Maintainer: Ulrich Bodenhofer MaintainerEmail: ulrich at bodenhofer.com git_url: https://git.bioconductor.org/packages/procoil git_branch: devel git_last_commit: c3f2a65 git_last_commit_date: 2025-10-29 10:06:44 -0500 (Wed, 29 Oct 2025)